BEGIN:VCALENDAR
VERSION:2.0
PRODID:-//Bottnansmåla Hjortgård - ECPv6.2.8.1//NONSGML v1.0//EN
CALSCALE:GREGORIAN
METHOD:PUBLISH
X-ORIGINAL-URL:https://www.bottnansmala.se
X-WR-CALDESC:Events for Bottnansmåla Hjortgård
REFRESH-INTERVAL;VALUE=DURATION:PT1H
X-Robots-Tag:noindex
X-PUBLISHED-TTL:PT1H
BEGIN:VTIMEZONE
TZID:Europe/Stockholm
BEGIN:DAYLIGHT
TZOFFSETFROM:+0100
TZOFFSETTO:+0200
TZNAME:CEST
DTSTART:20250330T010000
END:DAYLIGHT
BEGIN:STANDARD
TZOFFSETFROM:+0200
TZOFFSETTO:+0100
TZNAME:CET
DTSTART:20251026T010000
END:STANDARD
END:VTIMEZONE
BEGIN:VEVENT
DTSTART;TZID=Europe/Stockholm:20251011T110000
DTEND;TZID=Europe/Stockholm:20251011T160000
DTSTAMP:20260422T043857
CREATED:20250918T092421Z
LAST-MODIFIED:20250918T094202Z
UID:899-1760180400-1760198400@www.bottnansmala.se
SUMMARY:Höstmarknad på Äggaboden i Ronneby. Butiken på gården är stängd.
DESCRIPTION:
URL:https://www.bottnansmala.se/event/hostmarknad-pa-aggaboden-i-ronneby-butiken-pa-garden-ar-stangd/
END:VEVENT
BEGIN:VEVENT
DTSTART;TZID=Europe/Stockholm:20251012T110000
DTEND;TZID=Europe/Stockholm:20251012T160000
DTSTAMP:20260422T043857
CREATED:20250918T092602Z
LAST-MODIFIED:20250918T094035Z
UID:901-1760266800-1760284800@www.bottnansmala.se
SUMMARY:Höstmarknad på Äggaboden i Ronneby. Butiken på gården är stängd.
DESCRIPTION:
URL:https://www.bottnansmala.se/event/hostmarknad-pa-aggaboden-i-ronneby-butiken-pa-garden-ar-stangd-2/
END:VEVENT
BEGIN:VEVENT
DTSTART;TZID=Europe/Stockholm:20251025T160000
DTEND;TZID=Europe/Stockholm:20251025T200000
DTSTAMP:20260422T043857
CREATED:20250901T110240Z
LAST-MODIFIED:20250918T095410Z
UID:893-1761408000-1761422400@www.bottnansmala.se
SUMMARY:Pumpafestival i Wämöparken. Butiken på gården stänger kl.13.00
DESCRIPTION:
URL:https://www.bottnansmala.se/event/pumpafestival-i-wamoparken-2/
END:VEVENT
BEGIN:VEVENT
DTSTART;TZID=Europe/Stockholm:20251031T090000
DTEND;TZID=Europe/Stockholm:20251031T163000
DTSTAMP:20260422T043857
CREATED:20251029T161139Z
LAST-MODIFIED:20251029T161139Z
UID:935-1761901200-1761928200@www.bottnansmala.se
SUMMARY:Torsås Marknad
DESCRIPTION:
URL:https://www.bottnansmala.se/event/torsas-marknad/
END:VEVENT
END:VCALENDAR