BEGIN:VCALENDAR
VERSION:2.0
PRODID:-//Bottnansmåla Hjortgård - ECPv6.2.8.1//NONSGML v1.0//EN
CALSCALE:GREGORIAN
METHOD:PUBLISH
X-ORIGINAL-URL:https://www.bottnansmala.se
X-WR-CALDESC:Events for Bottnansmåla Hjortgård
REFRESH-INTERVAL;VALUE=DURATION:PT1H
X-Robots-Tag:noindex
X-PUBLISHED-TTL:PT1H
BEGIN:VTIMEZONE
TZID:Europe/Stockholm
BEGIN:DAYLIGHT
TZOFFSETFROM:+0100
TZOFFSETTO:+0200
TZNAME:CEST
DTSTART:20250330T010000
END:DAYLIGHT
BEGIN:STANDARD
TZOFFSETFROM:+0200
TZOFFSETTO:+0100
TZNAME:CET
DTSTART:20251026T010000
END:STANDARD
END:VTIMEZONE
BEGIN:VEVENT
DTSTART;TZID=Europe/Stockholm:20250907T110000
DTEND;TZID=Europe/Stockholm:20250907T150000
DTSTAMP:20260422T072217
CREATED:20250414T142148Z
LAST-MODIFIED:20250414T142148Z
UID:839-1757242800-1757257200@www.bottnansmala.se
SUMMARY:Höstmarknad i Rödeby
DESCRIPTION:
URL:https://www.bottnansmala.se/event/hostmarknad-i-rodeby-2/
END:VEVENT
BEGIN:VEVENT
DTSTART;TZID=Europe/Stockholm:20250913T100000
DTEND;TZID=Europe/Stockholm:20250913T160000
DTSTAMP:20260422T072217
CREATED:20250414T142715Z
LAST-MODIFIED:20250414T142715Z
UID:844-1757757600-1757779200@www.bottnansmala.se
SUMMARY:Gårdsbutiksrunda
DESCRIPTION:
URL:https://www.bottnansmala.se/event/gardsbutiksrunda/
END:VEVENT
BEGIN:VEVENT
DTSTART;TZID=Europe/Stockholm:20250914T100000
DTEND;TZID=Europe/Stockholm:20250914T160000
DTSTAMP:20260422T072217
CREATED:20250414T142810Z
LAST-MODIFIED:20250414T142810Z
UID:846-1757844000-1757865600@www.bottnansmala.se
SUMMARY:Gårdsbutiksrunda
DESCRIPTION:
URL:https://www.bottnansmala.se/event/gardsbutiksrunda-2/
END:VEVENT
BEGIN:VEVENT
DTSTART;TZID=Europe/Stockholm:20250920T100000
DTEND;TZID=Europe/Stockholm:20250920T150000
DTSTAMP:20260422T072217
CREATED:20250901T105457Z
LAST-MODIFIED:20250918T090318Z
UID:891-1758362400-1758380400@www.bottnansmala.se
SUMMARY:Skördemarknad i Tvings Långasjö Gamla skolan. Butiken på gården är stängd.
DESCRIPTION:
URL:https://www.bottnansmala.se/event/skordemarknad-i-tvings-langasjo-gamla-skolan/
END:VEVENT
END:VCALENDAR