BEGIN:VCALENDAR
VERSION:2.0
PRODID:-//Bottnansmåla Hjortgård - ECPv6.2.8.1//NONSGML v1.0//EN
CALSCALE:GREGORIAN
METHOD:PUBLISH
X-ORIGINAL-URL:https://www.bottnansmala.se
X-WR-CALDESC:Events for Bottnansmåla Hjortgård
REFRESH-INTERVAL;VALUE=DURATION:PT1H
X-Robots-Tag:noindex
X-PUBLISHED-TTL:PT1H
BEGIN:VTIMEZONE
TZID:Europe/Stockholm
BEGIN:DAYLIGHT
TZOFFSETFROM:+0100
TZOFFSETTO:+0200
TZNAME:CEST
DTSTART:20250330T010000
END:DAYLIGHT
BEGIN:STANDARD
TZOFFSETFROM:+0200
TZOFFSETTO:+0100
TZNAME:CET
DTSTART:20251026T010000
END:STANDARD
END:VTIMEZONE
BEGIN:VEVENT
DTSTART;TZID=Europe/Stockholm:20250802T110000
DTEND;TZID=Europe/Stockholm:20250802T150000
DTSTAMP:20260422T084053
CREATED:20250701T151237Z
LAST-MODIFIED:20250701T151237Z
UID:882-1754132400-1754146800@www.bottnansmala.se
SUMMARY:Fika och Loppis på gården
DESCRIPTION:
URL:https://www.bottnansmala.se/event/fika-och-loppis-pa-garden-5/
END:VEVENT
BEGIN:VEVENT
DTSTART;TZID=Europe/Stockholm:20250809T110000
DTEND;TZID=Europe/Stockholm:20250809T150000
DTSTAMP:20260422T084053
CREATED:20250701T151350Z
LAST-MODIFIED:20250701T151350Z
UID:884-1754737200-1754751600@www.bottnansmala.se
SUMMARY:Fika och Loppis på gården
DESCRIPTION:
URL:https://www.bottnansmala.se/event/fika-och-loppis-pa-garden-6/
END:VEVENT
BEGIN:VEVENT
DTSTART;TZID=Europe/Stockholm:20250823T120000
DTEND;TZID=Europe/Stockholm:20250823T160000
DTSTAMP:20260422T084053
CREATED:20250414T142002Z
LAST-MODIFIED:20250414T142002Z
UID:837-1755950400-1755964800@www.bottnansmala.se
SUMMARY:Wämödag med Musik- och Dansglädje
DESCRIPTION:
URL:https://www.bottnansmala.se/event/wamodag-med-musik-och-dansgladje/
END:VEVENT
END:VCALENDAR