BEGIN:VCALENDAR
VERSION:2.0
PRODID:-//Bottnansmåla Hjortgård - ECPv6.2.8.1//NONSGML v1.0//EN
CALSCALE:GREGORIAN
METHOD:PUBLISH
X-WR-CALNAME:Bottnansmåla Hjortgård
X-ORIGINAL-URL:https://www.bottnansmala.se
X-WR-CALDESC:Events for Bottnansmåla Hjortgård
REFRESH-INTERVAL;VALUE=DURATION:PT1H
X-Robots-Tag:noindex
X-PUBLISHED-TTL:PT1H
BEGIN:VTIMEZONE
TZID:Europe/Stockholm
BEGIN:DAYLIGHT
TZOFFSETFROM:+0100
TZOFFSETTO:+0200
TZNAME:CEST
DTSTART:20250330T010000
END:DAYLIGHT
BEGIN:STANDARD
TZOFFSETFROM:+0200
TZOFFSETTO:+0100
TZNAME:CET
DTSTART:20251026T010000
END:STANDARD
END:VTIMEZONE
BEGIN:VEVENT
DTSTART;TZID=Europe/Stockholm:20250501T110000
DTEND;TZID=Europe/Stockholm:20250501T150000
DTSTAMP:20260422T111831
CREATED:20250428T093232Z
LAST-MODIFIED:20250428T093232Z
UID:854-1746097200-1746111600@www.bottnansmala.se
SUMMARY:1:a Maj Öppet
DESCRIPTION:
URL:https://www.bottnansmala.se/event/1a-maj-oppet/
END:VEVENT
BEGIN:VEVENT
DTSTART;TZID=Europe/Stockholm:20250502T110000
DTEND;TZID=Europe/Stockholm:20250502T150000
DTSTAMP:20260422T111831
CREATED:20250428T093405Z
LAST-MODIFIED:20250428T093405Z
UID:856-1746183600-1746198000@www.bottnansmala.se
SUMMARY:Klämdag Extra Öppet
DESCRIPTION:
URL:https://www.bottnansmala.se/event/klamdag-extra-oppet/
END:VEVENT
BEGIN:VEVENT
DTSTART;TZID=Europe/Stockholm:20250510T100000
DTEND;TZID=Europe/Stockholm:20250510T120000
DTSTAMP:20260422T111831
CREATED:20250502T071231Z
LAST-MODIFIED:20250502T071231Z
UID:860-1746871200-1746878400@www.bottnansmala.se
SUMMARY:Vårmarknad på Strömsbergs Friskola\, butiken på gården är öppen som vanligt
DESCRIPTION:
URL:https://www.bottnansmala.se/event/varmarknad-pa-stromsbergs-friskola-butiken-pa-garden-ar-oppen-som-vanligt/
END:VEVENT
BEGIN:VEVENT
DTSTART;TZID=Europe/Stockholm:20250517T100000
DTEND;TZID=Europe/Stockholm:20250517T170000
DTSTAMP:20260422T111831
CREATED:20250414T141057Z
LAST-MODIFIED:20250414T141057Z
UID:831-1747476000-1747501200@www.bottnansmala.se
SUMMARY:Sparris safari på Kustvägen
DESCRIPTION:
URL:https://www.bottnansmala.se/event/sparris-safari-pa-kustvagen/
END:VEVENT
BEGIN:VEVENT
DTSTART;TZID=Europe/Stockholm:20250518T100000
DTEND;TZID=Europe/Stockholm:20250518T170000
DTSTAMP:20260422T111831
CREATED:20250414T141204Z
LAST-MODIFIED:20250414T141204Z
UID:833-1747562400-1747587600@www.bottnansmala.se
SUMMARY:Sparris safari på Kustvägen
DESCRIPTION:
URL:https://www.bottnansmala.se/event/sparris-safari-pa-kustvagen-2/
END:VEVENT
BEGIN:VEVENT
DTSTART;TZID=Europe/Stockholm:20250525T100000
DTEND;TZID=Europe/Stockholm:20250525T140000
DTSTAMP:20260422T111831
CREATED:20250502T070452Z
LAST-MODIFIED:20250502T070452Z
UID:858-1748167200-1748181600@www.bottnansmala.se
SUMMARY:Mat- och Hantverksmarknad Hasslö
DESCRIPTION:
URL:https://www.bottnansmala.se/event/mat-och-hantverksmarknad-hasslo/
END:VEVENT
BEGIN:VEVENT
DTSTART;TZID=Europe/Stockholm:20250529T140000
DTEND;TZID=Europe/Stockholm:20250529T190000
DTSTAMP:20260422T111831
CREATED:20250529T063936Z
LAST-MODIFIED:20250529T063936Z
UID:863-1748527200-1748545200@www.bottnansmala.se
SUMMARY:Kristi Himmelfärs Dag Öppet
DESCRIPTION:
URL:https://www.bottnansmala.se/event/kristi-himmelfars-dag-oppet/
END:VEVENT
END:VCALENDAR