BEGIN:VCALENDAR
VERSION:2.0
PRODID:-//Bottnansmåla Hjortgård - ECPv6.2.8.1//NONSGML v1.0//EN
CALSCALE:GREGORIAN
METHOD:PUBLISH
X-WR-CALNAME:Bottnansmåla Hjortgård
X-ORIGINAL-URL:https://www.bottnansmala.se
X-WR-CALDESC:Events for Bottnansmåla Hjortgård
REFRESH-INTERVAL;VALUE=DURATION:PT1H
X-Robots-Tag:noindex
X-PUBLISHED-TTL:PT1H
BEGIN:VTIMEZONE
TZID:Europe/Stockholm
BEGIN:DAYLIGHT
TZOFFSETFROM:+0100
TZOFFSETTO:+0200
TZNAME:CEST
DTSTART:20250330T010000
END:DAYLIGHT
BEGIN:STANDARD
TZOFFSETFROM:+0200
TZOFFSETTO:+0100
TZNAME:CET
DTSTART:20251026T010000
END:STANDARD
END:VTIMEZONE
BEGIN:VEVENT
DTSTART;TZID=Europe/Stockholm:20250414T080000
DTEND;TZID=Europe/Stockholm:20250414T170000
DTSTAMP:20260422T124354
CREATED:20250414T142530Z
LAST-MODIFIED:20250414T142530Z
UID:841-1744617600-1744650000@www.bottnansmala.se
SUMMARY:Skördemarknad i Tvings Långasjö
DESCRIPTION:
URL:https://www.bottnansmala.se/event/skordemarknad-i-tvings-langasjo-2/
END:VEVENT
BEGIN:VEVENT
DTSTART;TZID=Europe/Stockholm:20250417T130000
DTEND;TZID=Europe/Stockholm:20250417T190000
DTSTAMP:20260422T124354
CREATED:20250414T092207Z
LAST-MODIFIED:20250414T092332Z
UID:822-1744894800-1744916400@www.bottnansmala.se
SUMMARY:Skärtorsdag Påsk öppet i butiken
DESCRIPTION:
URL:https://www.bottnansmala.se/event/pask-oppet-i-butiken/
END:VEVENT
BEGIN:VEVENT
DTSTART;TZID=Europe/Stockholm:20250418T110000
DTEND;TZID=Europe/Stockholm:20250418T150000
DTSTAMP:20260422T124354
CREATED:20250414T092515Z
LAST-MODIFIED:20250414T092515Z
UID:825-1744974000-1744988400@www.bottnansmala.se
SUMMARY:Långfredag Påsk öppet i butiken
DESCRIPTION:
URL:https://www.bottnansmala.se/event/langfredag-pask-oppet-i-butiken/
END:VEVENT
BEGIN:VEVENT
DTSTART;TZID=Europe/Stockholm:20250419T110000
DTEND;TZID=Europe/Stockholm:20250419T130000
DTSTAMP:20260422T124354
CREATED:20250414T092657Z
LAST-MODIFIED:20250414T092657Z
UID:827-1745060400-1745067600@www.bottnansmala.se
SUMMARY:Påskafton Påsk öppet i butiken
DESCRIPTION:
URL:https://www.bottnansmala.se/event/paskafton-pask-oppet-i-butiken/
END:VEVENT
BEGIN:VEVENT
DTSTART;TZID=Europe/Stockholm:20250426T100000
DTEND;TZID=Europe/Stockholm:20250426T140000
DTSTAMP:20260422T124354
CREATED:20250414T093628Z
LAST-MODIFIED:20250414T093628Z
UID:829-1745661600-1745676000@www.bottnansmala.se
SUMMARY:Vår öppning av Wämöparken
DESCRIPTION:
URL:https://www.bottnansmala.se/event/var-oppning-av-wamoparken/
END:VEVENT
BEGIN:VEVENT
DTSTART;TZID=Europe/Stockholm:20250430T110000
DTEND;TZID=Europe/Stockholm:20250430T140000
DTSTAMP:20260422T124354
CREATED:20250428T093123Z
LAST-MODIFIED:20250429T115031Z
UID:852-1746010800-1746021600@www.bottnansmala.se
SUMMARY:Extra Öppet Valborg
DESCRIPTION:
URL:https://www.bottnansmala.se/event/extra-oppet-valborg/
END:VEVENT
END:VCALENDAR