BEGIN:VCALENDAR
VERSION:2.0
PRODID:-//Bottnansmåla Hjortgård - ECPv6.2.8.1//NONSGML v1.0//EN
CALSCALE:GREGORIAN
METHOD:PUBLISH
X-WR-CALNAME:Bottnansmåla Hjortgård
X-ORIGINAL-URL:https://www.bottnansmala.se
X-WR-CALDESC:Events for Bottnansmåla Hjortgård
REFRESH-INTERVAL;VALUE=DURATION:PT1H
X-Robots-Tag:noindex
X-PUBLISHED-TTL:PT1H
BEGIN:VTIMEZONE
TZID:Europe/Stockholm
BEGIN:DAYLIGHT
TZOFFSETFROM:+0100
TZOFFSETTO:+0200
TZNAME:CEST
DTSTART:20240331T010000
END:DAYLIGHT
BEGIN:STANDARD
TZOFFSETFROM:+0200
TZOFFSETTO:+0100
TZNAME:CET
DTSTART:20241027T010000
END:STANDARD
END:VTIMEZONE
BEGIN:VEVENT
DTSTART;TZID=Europe/Stockholm:20241012T110000
DTEND;TZID=Europe/Stockholm:20241012T150000
DTSTAMP:20260423T001749
CREATED:20240824T110217Z
LAST-MODIFIED:20240824T110550Z
UID:729-1728730800-1728745200@www.bottnansmala.se
SUMMARY:Skördemarknad i Smålands Långasjö
DESCRIPTION:
URL:https://www.bottnansmala.se/event/skordemarknad-i-tvings-langasjo/
END:VEVENT
BEGIN:VEVENT
DTSTART;TZID=Europe/Stockholm:20241005T110000
DTEND;TZID=Europe/Stockholm:20241005T150000
DTSTAMP:20260423T001749
CREATED:20240930T182451Z
LAST-MODIFIED:20240930T182451Z
UID:754-1728126000-1728140400@www.bottnansmala.se
SUMMARY:Höstmässa i Torhamn
DESCRIPTION:
URL:https://www.bottnansmala.se/event/hostmassa-i-torhamn/
END:VEVENT
BEGIN:VEVENT
DTSTART;TZID=Europe/Stockholm:20240922T100000
DTEND;TZID=Europe/Stockholm:20240922T150000
DTSTAMP:20260423T001749
CREATED:20240917T073441Z
LAST-MODIFIED:20240917T073815Z
UID:744-1726999200-1727017200@www.bottnansmala.se
SUMMARY:Skördeglädje i Råbäcksmåla
DESCRIPTION:
URL:https://www.bottnansmala.se/event/744/
END:VEVENT
BEGIN:VEVENT
DTSTART;TZID=Europe/Stockholm:20240921T100000
DTEND;TZID=Europe/Stockholm:20240921T150000
DTSTAMP:20260423T001749
CREATED:20240512T073041Z
LAST-MODIFIED:20240806T182848Z
UID:684-1726912800-1726930800@www.bottnansmala.se
SUMMARY:Skördemarknad i Tvings Långasjö
DESCRIPTION:
URL:https://www.bottnansmala.se/event/skorde-och-vaxtmarknad-i-brakne-hoby/
END:VEVENT
BEGIN:VEVENT
DTSTART;TZID=Europe/Stockholm:20240914T100000
DTEND;TZID=Europe/Stockholm:20240915T160000
DTSTAMP:20260423T001749
CREATED:20240512T072905Z
LAST-MODIFIED:20240512T072905Z
UID:682-1726308000-1726416000@www.bottnansmala.se
SUMMARY:Gårdsbutiksrundan
DESCRIPTION:
URL:https://www.bottnansmala.se/event/gardsbutiksrundan/
END:VEVENT
BEGIN:VEVENT
DTSTART;TZID=Europe/Stockholm:20240912T110000
DTEND;TZID=Europe/Stockholm:20240912T140000
DTSTAMP:20260423T001749
CREATED:20240824T105851Z
LAST-MODIFIED:20240824T105851Z
UID:727-1726138800-1726149600@www.bottnansmala.se
SUMMARY:Nätverksträff på Tryckcentrum
DESCRIPTION:
URL:https://www.bottnansmala.se/event/natverkstraff-pa-tryckcentrum/
END:VEVENT
BEGIN:VEVENT
DTSTART;VALUE=DATE:20240831
DTEND;VALUE=DATE:20240901
DTSTAMP:20260423T001749
CREATED:20240828T075714Z
LAST-MODIFIED:20240828T080011Z
UID:738-1725062400-1725148799@www.bottnansmala.se
SUMMARY:Butiken stängd
DESCRIPTION:
URL:https://www.bottnansmala.se/event/butiken-stangd-2/
END:VEVENT
BEGIN:VEVENT
DTSTART;TZID=Europe/Stockholm:20240810T110000
DTEND;TZID=Europe/Stockholm:20240810T150000
DTSTAMP:20260423T001749
CREATED:20240714T104236Z
LAST-MODIFIED:20240806T182548Z
UID:717-1723287600-1723302000@www.bottnansmala.se
SUMMARY:Fikafinal på gården för denna sommaren
DESCRIPTION:Sista lördagen för i sommar har vi café på gården samtidigt som butiken är öppen. \nVarmt välkomna att sitta ner i lugn och ro i trädgården eller ladugården. \nFika kommer från Kinas Kakor o Catering
URL:https://www.bottnansmala.se/event/pop-up-cafe-pa-garden-4/
END:VEVENT
BEGIN:VEVENT
DTSTART;TZID=Europe/Stockholm:20240803T110000
DTEND;TZID=Europe/Stockholm:20240803T150000
DTSTAMP:20260423T001749
CREATED:20240714T104051Z
LAST-MODIFIED:20240714T104051Z
UID:715-1722682800-1722697200@www.bottnansmala.se
SUMMARY:Pop-up Café på gården
DESCRIPTION:Under några lördagar i sommar har vi café på gården samtidigt som butiken är öppen. \nVarmt välkomna att sitta ner i lugn och ro i trädgården eller ladugården. \nFika kommer från Kinas Kakor o Catering
URL:https://www.bottnansmala.se/event/pop-up-cafe-pa-garden-3/
END:VEVENT
BEGIN:VEVENT
DTSTART;TZID=Europe/Stockholm:20240727T110000
DTEND;TZID=Europe/Stockholm:20240727T150000
DTSTAMP:20260423T001749
CREATED:20240714T103859Z
LAST-MODIFIED:20240714T103859Z
UID:712-1722078000-1722092400@www.bottnansmala.se
SUMMARY:Pop-up Café på gården
DESCRIPTION:Under några lördagar i sommar har vi café på gården samtidigt som butiken är öppen. \nVarmt välkomna att sitta ner i lugn och ro i trädgården eller ladugården. \nFika kommer från Kinas Kakor o Catering
URL:https://www.bottnansmala.se/event/pop-up-cafe-pa-garden-2/
END:VEVENT
BEGIN:VEVENT
DTSTART;TZID=Europe/Stockholm:20240720T110000
DTEND;TZID=Europe/Stockholm:20240720T150000
DTSTAMP:20260423T001749
CREATED:20240714T103646Z
LAST-MODIFIED:20240714T103646Z
UID:710-1721473200-1721487600@www.bottnansmala.se
SUMMARY:Pop-up Café på gården
DESCRIPTION:Under några lördagar i sommar har vi café på gården samtidigt som butiken är öppen. \nVarmt välkomna att sitta ner i lugn och ro i trädgården eller ladugården. \nFika kommer från Kinas Kakor o Catering
URL:https://www.bottnansmala.se/event/pop-up-cafe-pa-garden/
END:VEVENT
BEGIN:VEVENT
DTSTART;VALUE=DATE:20240706
DTEND;VALUE=DATE:20240707
DTSTAMP:20260423T001749
CREATED:20240409T160659Z
LAST-MODIFIED:20240409T160659Z
UID:666-1720224000-1720310399@www.bottnansmala.se
SUMMARY:Berättelser under Eken på gården - Musikunderhållning
DESCRIPTION:
URL:https://www.bottnansmala.se/event/berattelser-under-eken-pa-garden-musikunderhallning-2/
END:VEVENT
BEGIN:VEVENT
DTSTART;VALUE=DATE:20240701
DTEND;VALUE=DATE:20240702
DTSTAMP:20260423T001749
CREATED:20240409T155707Z
LAST-MODIFIED:20240409T155707Z
UID:662-1719792000-1719878399@www.bottnansmala.se
SUMMARY:Berättelser under Eken - Barnaktivitet på gården
DESCRIPTION:
URL:https://www.bottnansmala.se/event/berattelser-under-eken-barnaktivitet-pa-garden/
END:VEVENT
BEGIN:VEVENT
DTSTART;VALUE=DATE:20240622
DTEND;VALUE=DATE:20240623
DTSTAMP:20260423T001749
CREATED:20240622T063915Z
LAST-MODIFIED:20240622T063915Z
UID:705-1719014400-1719100799@www.bottnansmala.se
SUMMARY:Idag håller vi stängt
DESCRIPTION:Vi önskar en fortsatt fin helg!
URL:https://www.bottnansmala.se/event/idag-haller-vi-stangt/
END:VEVENT
BEGIN:VEVENT
DTSTART;VALUE=DATE:20240621
DTEND;VALUE=DATE:20240622
DTSTAMP:20260423T001749
CREATED:20240621T124151Z
LAST-MODIFIED:20240621T124151Z
UID:701-1718928000-1719014399@www.bottnansmala.se
SUMMARY:Vi önskar er alla trevlig midsommar
DESCRIPTION:
URL:https://www.bottnansmala.se/event/vi-onskar-er-alla-trevlig-midsommar/
END:VEVENT
BEGIN:VEVENT
DTSTART;TZID=Europe/Stockholm:20240620T130000
DTEND;TZID=Europe/Stockholm:20240620T190000
DTSTAMP:20260423T001749
CREATED:20240617T053435Z
LAST-MODIFIED:20240617T053349Z
UID:699-1718888400-1718910000@www.bottnansmala.se
SUMMARY:Extra öppet inför Midsommar
DESCRIPTION:
URL:https://www.bottnansmala.se/event/extra-oppet-infor-midsommar-2/
END:VEVENT
BEGIN:VEVENT
DTSTART;TZID=Europe/Stockholm:20240619T170000
DTEND;TZID=Europe/Stockholm:20240619T173000
DTSTAMP:20260423T001749
CREATED:20240617T053137Z
LAST-MODIFIED:20240617T053137Z
UID:697-1718816400-1718818200@www.bottnansmala.se
SUMMARY:Reko-utlämning Karlskrona Oskarsvärn
DESCRIPTION:Beställ på Facebook eller meddela på gårdens telefon
URL:https://www.bottnansmala.se/event/reko-utlamning-karlskrona-oskarsvarn/
END:VEVENT
BEGIN:VEVENT
DTSTART;TZID=Europe/Stockholm:20240617T160000
DTEND;TZID=Europe/Stockholm:20240617T190000
DTSTAMP:20260423T001749
CREATED:20240617T052645Z
LAST-MODIFIED:20240617T052645Z
UID:695-1718640000-1718650800@www.bottnansmala.se
SUMMARY:Extra öppet inför Midsommar
DESCRIPTION:
URL:https://www.bottnansmala.se/event/extra-oppet-infor-midsommar/
END:VEVENT
BEGIN:VEVENT
DTSTART;TZID=Europe/Stockholm:20240615T100000
DTEND;TZID=Europe/Stockholm:20240615T153000
DTSTAMP:20260423T001749
CREATED:20240512T070651Z
LAST-MODIFIED:20240512T070651Z
UID:677-1718445600-1718465400@www.bottnansmala.se
SUMMARY:Sillarodden Ronneby Hamn
DESCRIPTION:
URL:https://www.bottnansmala.se/event/sillarodden-ronneby-hamn/
END:VEVENT
BEGIN:VEVENT
DTSTART;TZID=Europe/Stockholm:20240606T110000
DTEND;TZID=Europe/Stockholm:20240606T150000
DTSTAMP:20260423T001749
CREATED:20240523T135757Z
LAST-MODIFIED:20240523T135757Z
UID:692-1717671600-1717686000@www.bottnansmala.se
SUMMARY:Skogstokig i Eringsboda
DESCRIPTION:
URL:https://www.bottnansmala.se/event/skogstokig-i-eringsboda/
END:VEVENT
BEGIN:VEVENT
DTSTART;TZID=Europe/Stockholm:20240601T100000
DTEND;TZID=Europe/Stockholm:20240601T140000
DTSTAMP:20260423T001749
CREATED:20240512T072616Z
LAST-MODIFIED:20240512T072616Z
UID:680-1717236000-1717250400@www.bottnansmala.se
SUMMARY:Marknad i Rödeby Centrum
DESCRIPTION:
URL:https://www.bottnansmala.se/event/marknad-i-rodeby-centrum/
END:VEVENT
BEGIN:VEVENT
DTSTART;TZID=Europe/Stockholm:20240523T080000
DTEND;TZID=Europe/Stockholm:20240523T170000
DTSTAMP:20260423T001749
CREATED:20240523T134459Z
LAST-MODIFIED:20240523T134459Z
UID:688-1716451200-1716483600@www.bottnansmala.se
SUMMARY:Skogstokig 2024 i Eringsboda11-15
DESCRIPTION:
URL:https://www.bottnansmala.se/event/skogstokig-2024-i-eringsboda11-15/
END:VEVENT
BEGIN:VEVENT
DTSTART;TZID=Europe/Stockholm:20240518T100000
DTEND;TZID=Europe/Stockholm:20240519T170000
DTSTAMP:20260423T001749
CREATED:20240322T104748Z
LAST-MODIFIED:20240322T104748Z
UID:630-1716026400-1716138000@www.bottnansmala.se
SUMMARY:Sparrissafari på Kustvägen
DESCRIPTION:
URL:https://www.bottnansmala.se/event/sparrissafari-pa-kustvagen/
END:VEVENT
BEGIN:VEVENT
DTSTART;TZID=Europe/Stockholm:20240511T100000
DTEND;TZID=Europe/Stockholm:20240511T130000
DTSTAMP:20260423T001749
CREATED:20240409T154733Z
LAST-MODIFIED:20240409T154733Z
UID:660-1715421600-1715432400@www.bottnansmala.se
SUMMARY:Hönsmarknad i Skrävle
DESCRIPTION:
URL:https://www.bottnansmala.se/event/honsmarknad-i-skravle/
END:VEVENT
BEGIN:VEVENT
DTSTART;TZID=Europe/Stockholm:20240510T100000
DTEND;TZID=Europe/Stockholm:20240510T150000
DTSTAMP:20260423T001749
CREATED:20240412T063710Z
LAST-MODIFIED:20240412T063710Z
UID:668-1715335200-1715353200@www.bottnansmala.se
SUMMARY:Våryra i Torsås på Olssonska gården
DESCRIPTION:
URL:https://www.bottnansmala.se/event/varyra-i-torsas-pa-olssonska-garden/
END:VEVENT
BEGIN:VEVENT
DTSTART;TZID=Europe/Stockholm:20240509T110000
DTEND;TZID=Europe/Stockholm:20240509T150000
DTSTAMP:20260423T001749
CREATED:20240508T071748Z
LAST-MODIFIED:20240508T071748Z
UID:672-1715252400-1715266800@www.bottnansmala.se
SUMMARY:Kristi himmelsfärdsdag Extra öppet
DESCRIPTION:
URL:https://www.bottnansmala.se/event/kristi-himmelsfardsdag-extra-oppet/
END:VEVENT
BEGIN:VEVENT
DTSTART;TZID=Europe/Stockholm:20240420T100000
DTEND;TZID=Europe/Stockholm:20240420T140000
DTSTAMP:20260423T001749
CREATED:20240409T153923Z
LAST-MODIFIED:20240409T153923Z
UID:658-1713607200-1713621600@www.bottnansmala.se
SUMMARY:Våröppning Wämöparken
DESCRIPTION:
URL:https://www.bottnansmala.se/event/varoppning-wamoparken/
END:VEVENT
BEGIN:VEVENT
DTSTART;VALUE=DATE:20240409
DTEND;VALUE=DATE:20240410
DTSTAMP:20260423T001749
CREATED:20240409T155831Z
LAST-MODIFIED:20240409T155831Z
UID:664-1712620800-1712707199@www.bottnansmala.se
SUMMARY:Berättelser under Eken på gården - Musikunderhållning
DESCRIPTION:
URL:https://www.bottnansmala.se/event/berattelser-under-eken-pa-garden-musikunderhallning/
END:VEVENT
BEGIN:VEVENT
DTSTART;TZID=Europe/Stockholm:20240330T110000
DTEND;TZID=Europe/Stockholm:20240330T150000
DTSTAMP:20260423T001749
CREATED:20240322T104457Z
LAST-MODIFIED:20240322T104457Z
UID:628-1711796400-1711810800@www.bottnansmala.se
SUMMARY:Påskafton öppet som vanligt
DESCRIPTION:
URL:https://www.bottnansmala.se/event/paskafton-oppet-som-vanligt/
END:VEVENT
BEGIN:VEVENT
DTSTART;TZID=Europe/Stockholm:20240328T130000
DTEND;TZID=Europe/Stockholm:20240328T190000
DTSTAMP:20260423T001749
CREATED:20240322T104214Z
LAST-MODIFIED:20240325T065655Z
UID:626-1711630800-1711652400@www.bottnansmala.se
SUMMARY:Extraöppet Skärtorsdag
DESCRIPTION:På skärtorsdagen håller gårdsbutiken öppet mellan 13-19.
URL:https://www.bottnansmala.se/event/extraoppet-skartorsdag/
END:VEVENT
END:VCALENDAR