BEGIN:VCALENDAR
VERSION:2.0
PRODID:-//Bottnansmåla Hjortgård - ECPv6.2.8.1//NONSGML v1.0//EN
CALSCALE:GREGORIAN
METHOD:PUBLISH
X-WR-CALNAME:Bottnansmåla Hjortgård
X-ORIGINAL-URL:https://www.bottnansmala.se
X-WR-CALDESC:Events for Bottnansmåla Hjortgård
REFRESH-INTERVAL;VALUE=DURATION:PT1H
X-Robots-Tag:noindex
X-PUBLISHED-TTL:PT1H
BEGIN:VTIMEZONE
TZID:Europe/Stockholm
BEGIN:DAYLIGHT
TZOFFSETFROM:+0100
TZOFFSETTO:+0200
TZNAME:CEST
DTSTART:20230326T010000
END:DAYLIGHT
BEGIN:STANDARD
TZOFFSETFROM:+0200
TZOFFSETTO:+0100
TZNAME:CET
DTSTART:20231029T010000
END:STANDARD
END:VTIMEZONE
BEGIN:VEVENT
DTSTART;TZID=Europe/Stockholm:20231202T110000
DTEND;TZID=Europe/Stockholm:20231202T170000
DTSTAMP:20260423T003338
CREATED:20231113T082621Z
LAST-MODIFIED:20231113T082621Z
UID:503-1701514800-1701536400@www.bottnansmala.se
SUMMARY:Julmarknad i Ronneby Brunnspark
DESCRIPTION:
URL:https://www.bottnansmala.se/event/julmarknad-i-ronneby-brunnspark/
LOCATION:Ronneby brunnspark\, GYMNASTIKPROMENADEN 2\, Ronneby\, 372 36
END:VEVENT
BEGIN:VEVENT
DTSTART;TZID=Europe/Stockholm:20231126T100000
DTEND;TZID=Europe/Stockholm:20231126T160000
DTSTAMP:20260423T003338
CREATED:20231113T082331Z
LAST-MODIFIED:20231113T082331Z
UID:500-1700992800-1701014400@www.bottnansmala.se
SUMMARY:Julmys på Blekingeplantan
DESCRIPTION:
URL:https://www.bottnansmala.se/event/julmys-pa-blekingeplantan/
LOCATION:blekingeplantan\, Gamla Landsvägen 41\, nättraby\, 37331
END:VEVENT
END:VCALENDAR