BEGIN:VCALENDAR
VERSION:2.0
PRODID:-//Bottnansmåla Hjortgård - ECPv6.2.8.1//NONSGML v1.0//EN
CALSCALE:GREGORIAN
METHOD:PUBLISH
X-WR-CALNAME:Bottnansmåla Hjortgård
X-ORIGINAL-URL:https://www.bottnansmala.se
X-WR-CALDESC:Events for Bottnansmåla Hjortgård
REFRESH-INTERVAL;VALUE=DURATION:PT1H
X-Robots-Tag:noindex
X-PUBLISHED-TTL:PT1H
BEGIN:VTIMEZONE
TZID:Europe/Stockholm
BEGIN:DAYLIGHT
TZOFFSETFROM:+0100
TZOFFSETTO:+0200
TZNAME:CEST
DTSTART:20230326T010000
END:DAYLIGHT
BEGIN:STANDARD
TZOFFSETFROM:+0200
TZOFFSETTO:+0100
TZNAME:CET
DTSTART:20231029T010000
END:STANDARD
END:VTIMEZONE
BEGIN:VEVENT
DTSTART;TZID=Europe/Stockholm:20231222T130000
DTEND;TZID=Europe/Stockholm:20231222T170000
DTSTAMP:20260422T234837
CREATED:20231220T123552Z
LAST-MODIFIED:20231220T130012Z
UID:574-1703250000-1703264400@www.bottnansmala.se
SUMMARY:Butiken öppen 13-17
DESCRIPTION:Passa på att fixa goda julklappar till både dig och dina kära!
URL:https://www.bottnansmala.se/event/butiken-oppen-13-17/
END:VEVENT
BEGIN:VEVENT
DTSTART;TZID=Europe/Stockholm:20231218T160000
DTEND;TZID=Europe/Stockholm:20231221T190000
DTSTAMP:20260422T234837
CREATED:20231127T080949Z
LAST-MODIFIED:20231220T130205Z
UID:538-1702915200-1703185200@www.bottnansmala.se
SUMMARY:Butiken öppen 16-19
DESCRIPTION:Passa på att köpa juldelikatesser och klapparna här i lugn miljö!
URL:https://www.bottnansmala.se/event/butiken-oppen-16-19/
LOCATION:Bottnansmåla Gård\, Bottnansmåla 105\, Rödeby\, 37344
END:VEVENT
BEGIN:VEVENT
DTSTART;TZID=Europe/Stockholm:20231217T100000
DTEND;TZID=Europe/Stockholm:20231217T150000
DTSTAMP:20260422T234837
CREATED:20231113T083015Z
LAST-MODIFIED:20231113T083015Z
UID:509-1702807200-1702825200@www.bottnansmala.se
SUMMARY:Julmarknad Fridlevstad
DESCRIPTION:
URL:https://www.bottnansmala.se/event/julmarknad-fridlevstad/
END:VEVENT
BEGIN:VEVENT
DTSTART;TZID=Europe/Stockholm:20231209T100000
DTEND;TZID=Europe/Stockholm:20231210T170000
DTSTAMP:20260422T234837
CREATED:20231127T080834Z
LAST-MODIFIED:20231127T081514Z
UID:536-1702116000-1702227600@www.bottnansmala.se
SUMMARY:Blekinge Museum lördag och söndag 10-17
DESCRIPTION:
URL:https://www.bottnansmala.se/event/blekinge-museum/
END:VEVENT
BEGIN:VEVENT
DTSTART;TZID=Europe/Stockholm:20231203T110000
DTEND;TZID=Europe/Stockholm:20231203T150000
DTSTAMP:20260422T234837
CREATED:20231113T082802Z
LAST-MODIFIED:20231113T082802Z
UID:506-1701601200-1701615600@www.bottnansmala.se
SUMMARY:Julmarknad Rödeby\, församlingshemmet
DESCRIPTION:
URL:https://www.bottnansmala.se/event/julmarknad-rodeby-forsamlingshemmet/
LOCATION:Församlingshemmet Rödeby\, Stationsvägen 38\, Rödeby\, 373 42
END:VEVENT
BEGIN:VEVENT
DTSTART;TZID=Europe/Stockholm:20231202T110000
DTEND;TZID=Europe/Stockholm:20231202T170000
DTSTAMP:20260422T234837
CREATED:20231113T082621Z
LAST-MODIFIED:20231113T082621Z
UID:503-1701514800-1701536400@www.bottnansmala.se
SUMMARY:Julmarknad i Ronneby Brunnspark
DESCRIPTION:
URL:https://www.bottnansmala.se/event/julmarknad-i-ronneby-brunnspark/
LOCATION:Ronneby brunnspark\, GYMNASTIKPROMENADEN 2\, Ronneby\, 372 36
END:VEVENT
BEGIN:VEVENT
DTSTART;TZID=Europe/Stockholm:20231126T100000
DTEND;TZID=Europe/Stockholm:20231126T160000
DTSTAMP:20260422T234837
CREATED:20231113T082331Z
LAST-MODIFIED:20231113T082331Z
UID:500-1700992800-1701014400@www.bottnansmala.se
SUMMARY:Julmys på Blekingeplantan
DESCRIPTION:
URL:https://www.bottnansmala.se/event/julmys-pa-blekingeplantan/
LOCATION:blekingeplantan\, Gamla Landsvägen 41\, nättraby\, 37331
END:VEVENT
END:VCALENDAR