BEGIN:VCALENDAR
VERSION:2.0
PRODID:-//Bottnansmåla Hjortgård - ECPv6.2.8.1//NONSGML v1.0//EN
CALSCALE:GREGORIAN
METHOD:PUBLISH
X-WR-CALNAME:Bottnansmåla Hjortgård
X-ORIGINAL-URL:https://www.bottnansmala.se
X-WR-CALDESC:Events for Bottnansmåla Hjortgård
REFRESH-INTERVAL;VALUE=DURATION:PT1H
X-Robots-Tag:noindex
X-PUBLISHED-TTL:PT1H
BEGIN:VTIMEZONE
TZID:Europe/Stockholm
BEGIN:DAYLIGHT
TZOFFSETFROM:+0100
TZOFFSETTO:+0200
TZNAME:CEST
DTSTART:20240331T010000
END:DAYLIGHT
BEGIN:STANDARD
TZOFFSETFROM:+0200
TZOFFSETTO:+0100
TZNAME:CET
DTSTART:20241027T010000
END:STANDARD
BEGIN:DAYLIGHT
TZOFFSETFROM:+0100
TZOFFSETTO:+0200
TZNAME:CEST
DTSTART:20250330T010000
END:DAYLIGHT
BEGIN:STANDARD
TZOFFSETFROM:+0200
TZOFFSETTO:+0100
TZNAME:CET
DTSTART:20251026T010000
END:STANDARD
END:VTIMEZONE
BEGIN:VEVENT
DTSTART;VALUE=DATE:20250101
DTEND;VALUE=DATE:20250102
DTSTAMP:20260423T005255
CREATED:20241215T190418Z
LAST-MODIFIED:20241215T190418Z
UID:803-1735689600-1735775999@www.bottnansmala.se
SUMMARY:Vi önskar er ett riktigt Fint och Gott Nytt År 2025
DESCRIPTION:
URL:https://www.bottnansmala.se/event/vi-onskar-er-ett-riktigt-fint-och-gott-nytt-ar-2025/
END:VEVENT
BEGIN:VEVENT
DTSTART;VALUE=DATE:20241231
DTEND;VALUE=DATE:20250101
DTSTAMP:20260423T005255
CREATED:20241215T190023Z
LAST-MODIFIED:20241215T190215Z
UID:800-1735603200-1735689599@www.bottnansmala.se
SUMMARY:Vi önskar er ett riktigt gott slut på 2024 och tackar för ert engagemang för det närproducerade
DESCRIPTION:
URL:https://www.bottnansmala.se/event/vi-onskar-er-ett-riktigt-gott-slut-pa-2024-och-tackar-for-ert-engagemang-for-narproducerat/
END:VEVENT
BEGIN:VEVENT
DTSTART;TZID=Europe/Stockholm:20241229T110000
DTEND;TZID=Europe/Stockholm:20241229T130000
DTSTAMP:20260423T005255
CREATED:20241215T184658Z
LAST-MODIFIED:20241215T184758Z
UID:792-1735470000-1735477200@www.bottnansmala.se
SUMMARY:Öppet i butiken inför Nyår
DESCRIPTION:
URL:https://www.bottnansmala.se/event/oppet-i-butiken-infor-nyar/
END:VEVENT
BEGIN:VEVENT
DTSTART;TZID=Europe/Stockholm:20241228T110000
DTEND;TZID=Europe/Stockholm:20241228T150000
DTSTAMP:20260423T005255
CREATED:20241215T185011Z
LAST-MODIFIED:20241215T185011Z
UID:794-1735383600-1735398000@www.bottnansmala.se
SUMMARY:Öppet i butiken inför Nyår
DESCRIPTION:
URL:https://www.bottnansmala.se/event/oppet-i-butiken-infor-nyar-2/
END:VEVENT
BEGIN:VEVENT
DTSTART;VALUE=DATE:20241223
DTEND;VALUE=DATE:20241227
DTSTAMP:20260423T005255
CREATED:20241215T184039Z
LAST-MODIFIED:20241215T184417Z
UID:788-1734912000-1735257599@www.bottnansmala.se
SUMMARY:Vi önskar er en riktigt God Jul
DESCRIPTION:
URL:https://www.bottnansmala.se/event/juloppet-i-butiken-5/
END:VEVENT
BEGIN:VEVENT
DTSTART;TZID=Europe/Stockholm:20241222T110000
DTEND;TZID=Europe/Stockholm:20241222T130000
DTSTAMP:20260423T005255
CREATED:20241215T185746Z
LAST-MODIFIED:20241215T185746Z
UID:798-1734865200-1734872400@www.bottnansmala.se
SUMMARY:Julöppet i butiken
DESCRIPTION:
URL:https://www.bottnansmala.se/event/juloppet-i-butiken-6/
END:VEVENT
BEGIN:VEVENT
DTSTART;TZID=Europe/Stockholm:20241221T110000
DTEND;TZID=Europe/Stockholm:20241221T150000
DTSTAMP:20260423T005255
CREATED:20241215T183937Z
LAST-MODIFIED:20241215T183937Z
UID:786-1734778800-1734793200@www.bottnansmala.se
SUMMARY:Julöppet i butiken
DESCRIPTION:
URL:https://www.bottnansmala.se/event/juloppet-i-butiken-4/
END:VEVENT
BEGIN:VEVENT
DTSTART;TZID=Europe/Stockholm:20241219T170000
DTEND;TZID=Europe/Stockholm:20241219T190000
DTSTAMP:20260423T005255
CREATED:20241215T183636Z
LAST-MODIFIED:20241215T183636Z
UID:782-1734627600-1734634800@www.bottnansmala.se
SUMMARY:Julöppet i butiken
DESCRIPTION:
URL:https://www.bottnansmala.se/event/juloppet-i-butiken-3/
END:VEVENT
BEGIN:VEVENT
DTSTART;TZID=Europe/Stockholm:20241218T170000
DTEND;TZID=Europe/Stockholm:20241218T173000
DTSTAMP:20260423T005255
CREATED:20241215T183819Z
LAST-MODIFIED:20241215T183819Z
UID:784-1734541200-1734543000@www.bottnansmala.se
SUMMARY:Reko-ring Karlskrona för utlämning av beställda varor
DESCRIPTION:
URL:https://www.bottnansmala.se/event/reko-ring-karlskrona-for-utlamning-av-bestallda-varor/
END:VEVENT
BEGIN:VEVENT
DTSTART;TZID=Europe/Stockholm:20241217T170000
DTEND;TZID=Europe/Stockholm:20241217T190000
DTSTAMP:20260423T005255
CREATED:20241215T183516Z
LAST-MODIFIED:20241215T183516Z
UID:780-1734454800-1734462000@www.bottnansmala.se
SUMMARY:Julöppet i butiken
DESCRIPTION:
URL:https://www.bottnansmala.se/event/juloppet-i-butiken-2/
END:VEVENT
BEGIN:VEVENT
DTSTART;TZID=Europe/Stockholm:20241216T170000
DTEND;TZID=Europe/Stockholm:20241216T190000
DTSTAMP:20260423T005255
CREATED:20240930T184617Z
LAST-MODIFIED:20241215T183354Z
UID:756-1734368400-1734375600@www.bottnansmala.se
SUMMARY:Julöppet i butiken
DESCRIPTION:
URL:https://www.bottnansmala.se/event/juloppet-i-butiken/
END:VEVENT
BEGIN:VEVENT
DTSTART;TZID=Europe/Stockholm:20241215T120000
DTEND;TZID=Europe/Stockholm:20241215T160000
DTSTAMP:20260423T005255
CREATED:20240917T074536Z
LAST-MODIFIED:20240917T074536Z
UID:751-1734264000-1734278400@www.bottnansmala.se
SUMMARY:Julmarknad i Fridlevstad
DESCRIPTION:
URL:https://www.bottnansmala.se/event/julmarknad-i-fridlevstad/
END:VEVENT
BEGIN:VEVENT
DTSTART;TZID=Europe/Stockholm:20241215T080000
DTEND;TZID=Europe/Stockholm:20241215T170000
DTSTAMP:20260423T005255
CREATED:20241215T185234Z
LAST-MODIFIED:20241215T185234Z
UID:796-1734249600-1734282000@www.bottnansmala.se
SUMMARY:Vi önskar er ett riktigt fint slut på 2024 och tackar er för att ni handlar lokalt
DESCRIPTION:
URL:https://www.bottnansmala.se/event/vi-onskar-er-ett-riktigt-fint-slut-pa-2024-och-tackar-er-for-att-ni-handlar-lokalt/
END:VEVENT
BEGIN:VEVENT
DTSTART;TZID=Europe/Stockholm:20241214T120000
DTEND;TZID=Europe/Stockholm:20241214T190000
DTSTAMP:20260423T005255
CREATED:20241213T081431Z
LAST-MODIFIED:20241213T081431Z
UID:776-1734177600-1734202800@www.bottnansmala.se
SUMMARY:Julmarknad i Karlskrona
DESCRIPTION:
URL:https://www.bottnansmala.se/event/julmarknad-i-karlskrona/
END:VEVENT
BEGIN:VEVENT
DTSTART;TZID=Europe/Stockholm:20241208T140000
DTEND;TZID=Europe/Stockholm:20241208T170000
DTSTAMP:20260423T005255
CREATED:20241007T102229Z
LAST-MODIFIED:20241007T102229Z
UID:758-1733666400-1733677200@www.bottnansmala.se
SUMMARY:Julmarknad Krukö Viltrökeri
DESCRIPTION:
URL:https://www.bottnansmala.se/event/julmarknad-kruko-viltrokeri/
END:VEVENT
BEGIN:VEVENT
DTSTART;TZID=Europe/Stockholm:20241207T110000
DTEND;TZID=Europe/Stockholm:20241207T150000
DTSTAMP:20260423T005255
CREATED:20241106T173413Z
LAST-MODIFIED:20241106T173413Z
UID:773-1733569200-1733583600@www.bottnansmala.se
SUMMARY:Julbasar i Allhallen Holmsjö
DESCRIPTION:
URL:https://www.bottnansmala.se/event/julbasar-i-allhallen-holmsjo/
END:VEVENT
BEGIN:VEVENT
DTSTART;TZID=Europe/Stockholm:20241201T110000
DTEND;TZID=Europe/Stockholm:20241201T150000
DTSTAMP:20260423T005255
CREATED:20240917T074410Z
LAST-MODIFIED:20240917T074410Z
UID:749-1733050800-1733065200@www.bottnansmala.se
SUMMARY:Julmarknad i Rödeby
DESCRIPTION:
URL:https://www.bottnansmala.se/event/julmarknad-i-rodeby/
END:VEVENT
BEGIN:VEVENT
DTSTART;TZID=Europe/Stockholm:20241130T110000
DTEND;TZID=Europe/Stockholm:20241130T170000
DTSTAMP:20260423T005255
CREATED:20241024T191957Z
LAST-MODIFIED:20241024T191957Z
UID:770-1732964400-1732986000@www.bottnansmala.se
SUMMARY:Julmarknad Brunnsparken Ronneby
DESCRIPTION:
URL:https://www.bottnansmala.se/event/julmarknad-brunnsparken-ronneby/
END:VEVENT
BEGIN:VEVENT
DTSTART;TZID=Europe/Stockholm:20241124T100000
DTEND;TZID=Europe/Stockholm:20241124T160000
DTSTAMP:20260423T005255
CREATED:20240917T074153Z
LAST-MODIFIED:20240917T074153Z
UID:747-1732442400-1732464000@www.bottnansmala.se
SUMMARY:Julmys på Blekinge Plantan
DESCRIPTION:
URL:https://www.bottnansmala.se/event/julmys-pa-blekinge-plantan/
END:VEVENT
BEGIN:VEVENT
DTSTART;TZID=Europe/Stockholm:20241102T160000
DTEND;TZID=Europe/Stockholm:20241102T210000
DTSTAMP:20260423T005255
CREATED:20240824T111428Z
LAST-MODIFIED:20241022T131014Z
UID:736-1730563200-1730581200@www.bottnansmala.se
SUMMARY:Alsboafton - OBS Butiken öppen 11-12
DESCRIPTION:
URL:https://www.bottnansmala.se/event/alsboafton/
END:VEVENT
BEGIN:VEVENT
DTSTART;TZID=Europe/Stockholm:20241026T160000
DTEND;TZID=Europe/Stockholm:20241026T200000
DTSTAMP:20260423T005255
CREATED:20240824T111057Z
LAST-MODIFIED:20241022T130744Z
UID:734-1729958400-1729972800@www.bottnansmala.se
SUMMARY:Pumpafestival i Wämöparken - OBS Butiken öppen 11-13
DESCRIPTION:
URL:https://www.bottnansmala.se/event/pumpafestival-i-wamoparken/
END:VEVENT
BEGIN:VEVENT
DTSTART;TZID=Europe/Stockholm:20241020T100000
DTEND;TZID=Europe/Stockholm:20241020T150000
DTSTAMP:20260423T005255
CREATED:20241014T080859Z
LAST-MODIFIED:20241014T080859Z
UID:762-1729418400-1729436400@www.bottnansmala.se
SUMMARY:Matmarknad i Holken norr om Eringsboda
DESCRIPTION:
URL:https://www.bottnansmala.se/event/matmarknad-i-holken-norr-om-eringsboda/
END:VEVENT
BEGIN:VEVENT
DTSTART;TZID=Europe/Stockholm:20241013T110000
DTEND;TZID=Europe/Stockholm:20241013T150000
DTSTAMP:20260423T005255
CREATED:20240824T110813Z
LAST-MODIFIED:20240824T110813Z
UID:732-1728817200-1728831600@www.bottnansmala.se
SUMMARY:Höstmarknad i Rödeby
DESCRIPTION:
URL:https://www.bottnansmala.se/event/hostmarknad-i-rodeby/
END:VEVENT
BEGIN:VEVENT
DTSTART;TZID=Europe/Stockholm:20241012T110000
DTEND;TZID=Europe/Stockholm:20241012T150000
DTSTAMP:20260423T005255
CREATED:20240824T110217Z
LAST-MODIFIED:20240824T110550Z
UID:729-1728730800-1728745200@www.bottnansmala.se
SUMMARY:Skördemarknad i Smålands Långasjö
DESCRIPTION:
URL:https://www.bottnansmala.se/event/skordemarknad-i-tvings-langasjo/
END:VEVENT
BEGIN:VEVENT
DTSTART;TZID=Europe/Stockholm:20241005T110000
DTEND;TZID=Europe/Stockholm:20241005T150000
DTSTAMP:20260423T005255
CREATED:20240930T182451Z
LAST-MODIFIED:20240930T182451Z
UID:754-1728126000-1728140400@www.bottnansmala.se
SUMMARY:Höstmässa i Torhamn
DESCRIPTION:
URL:https://www.bottnansmala.se/event/hostmassa-i-torhamn/
END:VEVENT
BEGIN:VEVENT
DTSTART;TZID=Europe/Stockholm:20240922T100000
DTEND;TZID=Europe/Stockholm:20240922T150000
DTSTAMP:20260423T005255
CREATED:20240917T073441Z
LAST-MODIFIED:20240917T073815Z
UID:744-1726999200-1727017200@www.bottnansmala.se
SUMMARY:Skördeglädje i Råbäcksmåla
DESCRIPTION:
URL:https://www.bottnansmala.se/event/744/
END:VEVENT
BEGIN:VEVENT
DTSTART;TZID=Europe/Stockholm:20240921T100000
DTEND;TZID=Europe/Stockholm:20240921T150000
DTSTAMP:20260423T005255
CREATED:20240512T073041Z
LAST-MODIFIED:20240806T182848Z
UID:684-1726912800-1726930800@www.bottnansmala.se
SUMMARY:Skördemarknad i Tvings Långasjö
DESCRIPTION:
URL:https://www.bottnansmala.se/event/skorde-och-vaxtmarknad-i-brakne-hoby/
END:VEVENT
BEGIN:VEVENT
DTSTART;TZID=Europe/Stockholm:20240914T100000
DTEND;TZID=Europe/Stockholm:20240915T160000
DTSTAMP:20260423T005255
CREATED:20240512T072905Z
LAST-MODIFIED:20240512T072905Z
UID:682-1726308000-1726416000@www.bottnansmala.se
SUMMARY:Gårdsbutiksrundan
DESCRIPTION:
URL:https://www.bottnansmala.se/event/gardsbutiksrundan/
END:VEVENT
BEGIN:VEVENT
DTSTART;TZID=Europe/Stockholm:20240912T110000
DTEND;TZID=Europe/Stockholm:20240912T140000
DTSTAMP:20260423T005255
CREATED:20240824T105851Z
LAST-MODIFIED:20240824T105851Z
UID:727-1726138800-1726149600@www.bottnansmala.se
SUMMARY:Nätverksträff på Tryckcentrum
DESCRIPTION:
URL:https://www.bottnansmala.se/event/natverkstraff-pa-tryckcentrum/
END:VEVENT
BEGIN:VEVENT
DTSTART;VALUE=DATE:20240831
DTEND;VALUE=DATE:20240901
DTSTAMP:20260423T005255
CREATED:20240828T075714Z
LAST-MODIFIED:20240828T080011Z
UID:738-1725062400-1725148799@www.bottnansmala.se
SUMMARY:Butiken stängd
DESCRIPTION:
URL:https://www.bottnansmala.se/event/butiken-stangd-2/
END:VEVENT
END:VCALENDAR