BEGIN:VCALENDAR
VERSION:2.0
PRODID:-//Bottnansmåla Hjortgård - ECPv6.2.8.1//NONSGML v1.0//EN
CALSCALE:GREGORIAN
METHOD:PUBLISH
X-ORIGINAL-URL:https://www.bottnansmala.se
X-WR-CALDESC:Events for Bottnansmåla Hjortgård
REFRESH-INTERVAL;VALUE=DURATION:PT1H
X-Robots-Tag:noindex
X-PUBLISHED-TTL:PT1H
BEGIN:VTIMEZONE
TZID:Europe/Stockholm
BEGIN:DAYLIGHT
TZOFFSETFROM:+0100
TZOFFSETTO:+0200
TZNAME:CEST
DTSTART:20260329T010000
END:DAYLIGHT
BEGIN:STANDARD
TZOFFSETFROM:+0200
TZOFFSETTO:+0100
TZNAME:CET
DTSTART:20261025T010000
END:STANDARD
END:VTIMEZONE
BEGIN:VEVENT
DTSTART;TZID=Europe/Stockholm:20260509T100000
DTEND;TZID=Europe/Stockholm:20260509T120000
DTSTAMP:20260421T204217
CREATED:20260407T071141Z
LAST-MODIFIED:20260407T071141Z
UID:1033-1778320800-1778328000@www.bottnansmala.se
SUMMARY:Vårmarknad Strömsbergs skola
DESCRIPTION:
URL:https://www.bottnansmala.se/event/varmarknad-stromsbergs-skola/
END:VEVENT
BEGIN:VEVENT
DTSTART;TZID=Europe/Stockholm:20260509T130000
DTEND;TZID=Europe/Stockholm:20260509T150000
DTSTAMP:20260421T204217
CREATED:20260407T071334Z
LAST-MODIFIED:20260407T072352Z
UID:1035-1778331600-1778338800@www.bottnansmala.se
SUMMARY:OBS tiderna! Butiken på gården öppen
DESCRIPTION:
URL:https://www.bottnansmala.se/event/obs-butiken-pa-garden-oppen/
END:VEVENT
END:VCALENDAR