BEGIN:VCALENDAR
VERSION:2.0
PRODID:-//Bottnansmåla Hjortgård - ECPv6.2.8.1//NONSGML v1.0//EN
CALSCALE:GREGORIAN
METHOD:PUBLISH
X-WR-CALNAME:Bottnansmåla Hjortgård
X-ORIGINAL-URL:https://www.bottnansmala.se
X-WR-CALDESC:Events for Bottnansmåla Hjortgård
REFRESH-INTERVAL;VALUE=DURATION:PT1H
X-Robots-Tag:noindex
X-PUBLISHED-TTL:PT1H
BEGIN:VTIMEZONE
TZID:Europe/Stockholm
BEGIN:DAYLIGHT
TZOFFSETFROM:+0100
TZOFFSETTO:+0200
TZNAME:CEST
DTSTART:20260329T010000
END:DAYLIGHT
BEGIN:STANDARD
TZOFFSETFROM:+0200
TZOFFSETTO:+0100
TZNAME:CET
DTSTART:20261025T010000
END:STANDARD
END:VTIMEZONE
BEGIN:VEVENT
DTSTART;TZID=Europe/Stockholm:20260425T100000
DTEND;TZID=Europe/Stockholm:20260425T140000
DTSTAMP:20260421T175711
CREATED:20260225T061145Z
LAST-MODIFIED:20260225T061145Z
UID:1024-1777111200-1777125600@www.bottnansmala.se
SUMMARY:Våröppning Wämöparken
DESCRIPTION:
URL:https://www.bottnansmala.se/event/varoppning-wamoparken-2/
END:VEVENT
END:VCALENDAR