BEGIN:VCALENDAR
VERSION:2.0
PRODID:-//Bottnansmåla Hjortgård - ECPv6.2.8.1//NONSGML v1.0//EN
CALSCALE:GREGORIAN
METHOD:PUBLISH
X-ORIGINAL-URL:https://www.bottnansmala.se
X-WR-CALDESC:Events for Bottnansmåla Hjortgård
REFRESH-INTERVAL;VALUE=DURATION:PT1H
X-Robots-Tag:noindex
X-PUBLISHED-TTL:PT1H
BEGIN:VTIMEZONE
TZID:Europe/Stockholm
BEGIN:DAYLIGHT
TZOFFSETFROM:+0100
TZOFFSETTO:+0200
TZNAME:CEST
DTSTART:20250330T010000
END:DAYLIGHT
BEGIN:STANDARD
TZOFFSETFROM:+0200
TZOFFSETTO:+0100
TZNAME:CET
DTSTART:20251026T010000
END:STANDARD
END:VTIMEZONE
BEGIN:VEVENT
DTSTART;TZID=Europe/Stockholm:20251207T100000
DTEND;TZID=Europe/Stockholm:20251207T160000
DTSTAMP:20260422T033036
CREATED:20251019T132539Z
LAST-MODIFIED:20251019T132539Z
UID:920-1765101600-1765123200@www.bottnansmala.se
SUMMARY:Julmarknad i Karlskrona Blekinge Museum
DESCRIPTION:
URL:https://www.bottnansmala.se/event/julmarknad-i-karlskrona-blekinge-museum-2/
END:VEVENT
END:VCALENDAR