BEGIN:VCALENDAR
VERSION:2.0
PRODID:-//Bottnansmåla Hjortgård - ECPv6.2.8.1//NONSGML v1.0//EN
CALSCALE:GREGORIAN
METHOD:PUBLISH
X-ORIGINAL-URL:https://www.bottnansmala.se
X-WR-CALDESC:Events for Bottnansmåla Hjortgård
REFRESH-INTERVAL;VALUE=DURATION:PT1H
X-Robots-Tag:noindex
X-PUBLISHED-TTL:PT1H
BEGIN:VTIMEZONE
TZID:Europe/Stockholm
BEGIN:DAYLIGHT
TZOFFSETFROM:+0100
TZOFFSETTO:+0200
TZNAME:CEST
DTSTART:20250330T010000
END:DAYLIGHT
BEGIN:STANDARD
TZOFFSETFROM:+0200
TZOFFSETTO:+0100
TZNAME:CET
DTSTART:20251026T010000
END:STANDARD
END:VTIMEZONE
BEGIN:VEVENT
DTSTART;TZID=Europe/Stockholm:20251115T100000
DTEND;TZID=Europe/Stockholm:20251115T150000
DTSTAMP:20260422T043857
CREATED:20251024T111706Z
LAST-MODIFIED:20251110T182028Z
UID:932-1763200800-1763218800@www.bottnansmala.se
SUMMARY:Öppet hus i Belganet\, Danshallen. Butiken på gården öppen som vanligt där Marie tar emot och hjälper er. Endast swish och kontanter i butiken.
DESCRIPTION:
URL:https://www.bottnansmala.se/event/oppet-hus-i-belganet-danshallen-butiken-pa-garden-oppen-som-vanligt/
END:VEVENT
END:VCALENDAR