BEGIN:VCALENDAR
VERSION:2.0
PRODID:-//Bottnansmåla Hjortgård - ECPv6.2.8.1//NONSGML v1.0//EN
CALSCALE:GREGORIAN
METHOD:PUBLISH
X-ORIGINAL-URL:https://www.bottnansmala.se
X-WR-CALDESC:Events for Bottnansmåla Hjortgård
REFRESH-INTERVAL;VALUE=DURATION:PT1H
X-Robots-Tag:noindex
X-PUBLISHED-TTL:PT1H
BEGIN:VTIMEZONE
TZID:Europe/Stockholm
BEGIN:DAYLIGHT
TZOFFSETFROM:+0100
TZOFFSETTO:+0200
TZNAME:CEST
DTSTART:20250330T010000
END:DAYLIGHT
BEGIN:STANDARD
TZOFFSETFROM:+0200
TZOFFSETTO:+0100
TZNAME:CET
DTSTART:20251026T010000
END:STANDARD
END:VTIMEZONE
BEGIN:VEVENT
DTSTART;TZID=Europe/Stockholm:20251111T170000
DTEND;TZID=Europe/Stockholm:20251111T180000
DTSTAMP:20260422T043926
CREATED:20251110T192522Z
LAST-MODIFIED:20251110T192522Z
UID:961-1762880400-1762884000@www.bottnansmala.se
SUMMARY:Ny Reko-ring annons ute på Facebook. Utdelning av förbeställda varor på Oskarsvärn\, Karlskrona 19:e november\, 17.00-17.30
DESCRIPTION:
URL:https://www.bottnansmala.se/event/ny-reko-ring-annons-ute-pa-facebook-utdelning-av-forbestallda-varor-pa-oskarsvarn-karlskrona-19e-november-17-00-17-30/
END:VEVENT
END:VCALENDAR