BEGIN:VCALENDAR
VERSION:2.0
PRODID:-//Bottnansmåla Hjortgård - ECPv6.2.8.1//NONSGML v1.0//EN
CALSCALE:GREGORIAN
METHOD:PUBLISH
X-ORIGINAL-URL:https://www.bottnansmala.se
X-WR-CALDESC:Events for Bottnansmåla Hjortgård
REFRESH-INTERVAL;VALUE=DURATION:PT1H
X-Robots-Tag:noindex
X-PUBLISHED-TTL:PT1H
BEGIN:VTIMEZONE
TZID:Europe/Stockholm
BEGIN:DAYLIGHT
TZOFFSETFROM:+0100
TZOFFSETTO:+0200
TZNAME:CEST
DTSTART:20250330T010000
END:DAYLIGHT
BEGIN:STANDARD
TZOFFSETFROM:+0200
TZOFFSETTO:+0100
TZNAME:CET
DTSTART:20251026T010000
END:STANDARD
END:VTIMEZONE
BEGIN:VEVENT
DTSTART;TZID=Europe/Stockholm:20250510T100000
DTEND;TZID=Europe/Stockholm:20250510T120000
DTSTAMP:20260422T123749
CREATED:20250502T071231Z
LAST-MODIFIED:20250502T071231Z
UID:860-1746871200-1746878400@www.bottnansmala.se
SUMMARY:Vårmarknad på Strömsbergs Friskola\, butiken på gården är öppen som vanligt
DESCRIPTION:
URL:https://www.bottnansmala.se/event/varmarknad-pa-stromsbergs-friskola-butiken-pa-garden-ar-oppen-som-vanligt/
END:VEVENT
END:VCALENDAR