BEGIN:VCALENDAR
VERSION:2.0
PRODID:-//Bottnansmåla Hjortgård - ECPv6.2.8.1//NONSGML v1.0//EN
CALSCALE:GREGORIAN
METHOD:PUBLISH
X-ORIGINAL-URL:https://www.bottnansmala.se
X-WR-CALDESC:Events for Bottnansmåla Hjortgård
REFRESH-INTERVAL;VALUE=DURATION:PT1H
X-Robots-Tag:noindex
X-PUBLISHED-TTL:PT1H
BEGIN:VTIMEZONE
TZID:Europe/Stockholm
BEGIN:DAYLIGHT
TZOFFSETFROM:+0100
TZOFFSETTO:+0200
TZNAME:CEST
DTSTART:20250330T010000
END:DAYLIGHT
BEGIN:STANDARD
TZOFFSETFROM:+0200
TZOFFSETTO:+0100
TZNAME:CET
DTSTART:20251026T010000
END:STANDARD
END:VTIMEZONE
BEGIN:VEVENT
DTSTART;TZID=Europe/Stockholm:20250419T110000
DTEND;TZID=Europe/Stockholm:20250419T130000
DTSTAMP:20260422T140122
CREATED:20250414T092657Z
LAST-MODIFIED:20250414T092657Z
UID:827-1745060400-1745067600@www.bottnansmala.se
SUMMARY:Påskafton Påsk öppet i butiken
DESCRIPTION:
URL:https://www.bottnansmala.se/event/paskafton-pask-oppet-i-butiken/
END:VEVENT
END:VCALENDAR